BEGIN:VCALENDAR
VERSION:2.0
PRODID:-//Denver Executive Association - ECPv6.15.20//NONSGML v1.0//EN
CALSCALE:GREGORIAN
METHOD:PUBLISH
X-WR-CALNAME:Denver Executive Association
X-ORIGINAL-URL:https://denverexecutiveassociation.com
X-WR-CALDESC:Events for Denver Executive Association
REFRESH-INTERVAL;VALUE=DURATION:PT1H
X-Robots-Tag:noindex
X-PUBLISHED-TTL:PT1H
BEGIN:VTIMEZONE
TZID:America/Denver
BEGIN:DAYLIGHT
TZOFFSETFROM:-0700
TZOFFSETTO:-0600
TZNAME:MDT
DTSTART:20250309T090000
END:DAYLIGHT
BEGIN:STANDARD
TZOFFSETFROM:-0600
TZOFFSETTO:-0700
TZNAME:MST
DTSTART:20251102T080000
END:STANDARD
BEGIN:DAYLIGHT
TZOFFSETFROM:-0700
TZOFFSETTO:-0600
TZNAME:MDT
DTSTART:20260308T090000
END:DAYLIGHT
BEGIN:STANDARD
TZOFFSETFROM:-0600
TZOFFSETTO:-0700
TZNAME:MST
DTSTART:20261101T080000
END:STANDARD
BEGIN:DAYLIGHT
TZOFFSETFROM:-0700
TZOFFSETTO:-0600
TZNAME:MDT
DTSTART:20270314T090000
END:DAYLIGHT
BEGIN:STANDARD
TZOFFSETFROM:-0600
TZOFFSETTO:-0700
TZNAME:MST
DTSTART:20271107T080000
END:STANDARD
END:VTIMEZONE
BEGIN:VEVENT
DTSTART;TZID=America/Denver:20260421T070000
DTEND;TZID=America/Denver:20260421T083000
DTSTAMP:20260423T025242
CREATED:20260121T174324Z
LAST-MODIFIED:20260130T210721Z
UID:5577-1776754800-1776760200@denverexecutiveassociation.com
SUMMARY:DEA Speaker Meeting - Gabriel DeRita
DESCRIPTION:Denver Executive Association Meeting \nSpecial Guest Speaker: Gabriel DeRita\, Leadership & Communication Coach \nTopic: How to Get Better at Hard Conversations: Turning Tension into Trust \nBy Invitation Only. \nor more information\, email director@denverea.com
URL:https://denverexecutiveassociation.com/event/dea-speaker-meeting-5/
LOCATION:DU Richie Center
ORGANIZER;CN="Carrie Manion":MAILTO:director@denverea.com
END:VEVENT
END:VCALENDAR